BEGIN:VCALENDAR
VERSION:2.0
PRODID:-//Plone.org//NONSGML plone.app.event//EN
X-WR-TIMEZONE:Europe/Madrid
BEGIN:VEVENT
SUMMARY:Reunió coordinació Recursos Humans
DTSTART;TZID=Europe/Madrid;VALUE=DATE-TIME:20220210T120000
DTEND;TZID=Europe/Madrid;VALUE=DATE-TIME:20220210T130000
DTSTAMP;VALUE=DATE-TIME:20260425T143041Z
UID:96752976ad63ce157c7b9a9d5af4025b
CREATED;VALUE=DATE-TIME:20220210T000000Z
CATEGORIES:Agenda institucional
LOCATION:Alcaldia
URL:https://alella.cat/document.php?id=16748
END:VEVENT
END:VCALENDAR