BEGIN:VCALENDAR
VERSION:2.0
PRODID:-//Plone.org//NONSGML plone.app.event//EN
X-WR-TIMEZONE:Europe/Madrid
BEGIN:VEVENT
SUMMARY:Xerrada seguretat Montserrat Roig
DTSTART;TZID=Europe/Madrid;VALUE=DATE-TIME:20220209T173000
DTEND;TZID=Europe/Madrid;VALUE=DATE-TIME:20220209T183000
DTSTAMP;VALUE=DATE-TIME:20260424T122005Z
UID:ca1f7436a125db6a34d9f1aadc17a149
CREATED;VALUE=DATE-TIME:20220209T000000Z
CATEGORIES:Agenda institucional
LOCATION:A concretar
URL:https://alella.cat/document.php?id=16745
END:VEVENT
END:VCALENDAR