BEGIN:VCALENDAR
VERSION:2.0
PRODID:-//Plone.org//NONSGML plone.app.event//EN
X-WR-TIMEZONE:Europe/Madrid
BEGIN:VEVENT
SUMMARY:Crims.DOAlella. Presentació de llibre
DTSTART;TZID=Europe/Madrid;VALUE=DATE-TIME:20220208T193000
DTEND;TZID=Europe/Madrid;VALUE=DATE-TIME:20220208T203000
DTSTAMP;VALUE=DATE-TIME:20260423T185049Z
UID:08ec2c86bda261f27ea63e6158d1a1cf
CREATED;VALUE=DATE-TIME:20220208T000000Z
CATEGORIES:Literatura
LOCATION:Biblioteca Municipal Ferrer i Guàrdia - Hort de la Rectoria. 08328 Alella
ORGANIZER:Ajuntament d'Alella
COMMENT:Preu: Gratuït
DESCRIPTION:Las lágrimas del caimán, de Susana Hernández
URL:https://alella.cat/document.php?id=16668
END:VEVENT
END:VCALENDAR