BEGIN:VCALENDAR
VERSION:2.0
PRODID:-//Plone.org//NONSGML plone.app.event//EN
X-WR-TIMEZONE:Europe/Madrid
BEGIN:VEVENT
SUMMARY:Gent Gran 6.0. Caminem i fem salut
DTSTART;TZID=Europe/Madrid;VALUE=DATE-TIME:20220125T093000
DTEND;TZID=Europe/Madrid;VALUE=DATE-TIME:20220125T103000
DTSTAMP;VALUE=DATE-TIME:20260422T060454Z
UID:b39529f64b03bafbffe39534d1a262d9
CREATED;VALUE=DATE-TIME:20220125T000000Z
CATEGORIES:Sortides,Esports
LOCATION:Pavelló d'Esports Municipal Abelardo Vera - Passeig de la Creu de Pedra, 29-31. 08328 Alella
ORGANIZER:Ajuntament d'Alella
COMMENT:Preu: Gratuït
URL:https://alella.cat/document.php?id=16539
END:VEVENT
END:VCALENDAR