BEGIN:VCALENDAR
VERSION:2.0
PRODID:-//Plone.org//NONSGML plone.app.event//EN
X-WR-TIMEZONE:Europe/Madrid
BEGIN:VEVENT
SUMMARY:Taller de dansa: Diàleg de moviment
DTSTART;TZID=Europe/Madrid;VALUE=DATE-TIME:20220128T200000
DTEND;TZID=Europe/Madrid;VALUE=DATE-TIME:20220128T210000
DTSTAMP;VALUE=DATE-TIME:20260423T111506Z
UID:940a665a331089d3c8e8f4dfc1dc5144
CREATED;VALUE=DATE-TIME:20220128T000000Z
CATEGORIES:Cursos,Joves
LOCATION:Espai d'arts escèniques Casal d'Alella - Carrer de Santa Teresa, 9 08328 Alella
ORGANIZER:Ajuntament d'Alella
COMMENT:Preu: Gratuït
DESCRIPTION:Íria Llena Gasol
URL:https://alella.cat/document.php?id=16486
END:VEVENT
END:VCALENDAR