BEGIN:VCALENDAR
VERSION:2.0
PRODID:-//Plone.org//NONSGML plone.app.event//EN
X-WR-TIMEZONE:Europe/Madrid
BEGIN:VEVENT
SUMMARY:Fira de Nadal
DTSTART;TZID=Europe/Madrid;VALUE=DATE-TIME:20211219T100000
DTEND;TZID=Europe/Madrid;VALUE=DATE-TIME:20211219T110000
DTSTAMP;VALUE=DATE-TIME:20260421T144211Z
UID:3979ea1d980ccfe31eea5e284bf0937c
CREATED;VALUE=DATE-TIME:20211219T000000Z
CATEGORIES:Jornades,Festes i fires,Familiars
LOCATION:Rambla Àngel Guimerà i Plaça Germans Lleonart
ORGANIZER:Ajuntament d'Alella
COMMENT:Durada: Dissabte de 10 a 22h i diumenge de 10 a 20h
URL:https://alella.cat/document.php?id=16327
END:VEVENT
END:VCALENDAR