BEGIN:VCALENDAR
VERSION:2.0
PRODID:-//Plone.org//NONSGML plone.app.event//EN
X-WR-TIMEZONE:Europe/Madrid
BEGIN:VEVENT
SUMMARY:Reunió de govern (de 16 a 19:30h)
DTSTART;TZID=Europe/Madrid;VALUE=DATE-TIME:20211118T160000
DTEND;TZID=Europe/Madrid;VALUE=DATE-TIME:20211118T170000
DTSTAMP;VALUE=DATE-TIME:20260422T180203Z
UID:5b3741d527acf324c6d2c57c0b4935e4
CREATED;VALUE=DATE-TIME:20211118T000000Z
CATEGORIES:Agenda institucional
LOCATION:Sala Plens
URL:https://alella.cat/document.php?id=16158
END:VEVENT
END:VCALENDAR