BEGIN:VCALENDAR
VERSION:2.0
PRODID:-//Plone.org//NONSGML plone.app.event//EN
X-WR-TIMEZONE:Europe/Madrid
BEGIN:VEVENT
SUMMARY:Visita d'obres i inspeccions via pública
DTSTART;TZID=Europe/Madrid;VALUE=DATE-TIME:20211105T120000
DTEND;TZID=Europe/Madrid;VALUE=DATE-TIME:20211105T130000
DTSTAMP;VALUE=DATE-TIME:20260421T164205Z
UID:fed8579b479330cebc61b637e34234e3
CREATED;VALUE=DATE-TIME:20211105T000000Z
CATEGORIES:Agenda institucional
LOCATION:A concretar
URL:https://alella.cat/document.php?id=16077
END:VEVENT
END:VCALENDAR