BEGIN:VCALENDAR
VERSION:2.0
PRODID:-//Plone.org//NONSGML plone.app.event//EN
X-WR-TIMEZONE:Europe/Madrid
BEGIN:VEVENT
SUMMARY:Casament civil
DTSTART;TZID=Europe/Madrid;VALUE=DATE-TIME:20211009T123000
DTEND;TZID=Europe/Madrid;VALUE=DATE-TIME:20211009T133000
DTSTAMP;VALUE=DATE-TIME:20260422T212302Z
UID:6425ed8be6dd0f5197ace2fbb4ebc99e
CREATED;VALUE=DATE-TIME:20211009T000000Z
CATEGORIES:Agenda institucional
LOCATION:Sala Plens
URL:https://alella.cat/document.php?id=15874
END:VEVENT
END:VCALENDAR