BEGIN:VCALENDAR
VERSION:2.0
PRODID:-//Plone.org//NONSGML plone.app.event//EN
X-WR-TIMEZONE:Europe/Madrid
BEGIN:VEVENT
SUMMARY:Casament civil
DTSTART;TZID=Europe/Madrid;VALUE=DATE-TIME:20211008T120000
DTEND;TZID=Europe/Madrid;VALUE=DATE-TIME:20211008T130000
DTSTAMP;VALUE=DATE-TIME:20260426T031934Z
UID:a100edca668d1a8f1e6b222608d0cfe5
CREATED;VALUE=DATE-TIME:20211008T000000Z
CATEGORIES:Agenda institucional
LOCATION:Sala Plens
URL:https://alella.cat/document.php?id=15871
END:VEVENT
END:VCALENDAR