BEGIN:VCALENDAR
VERSION:2.0
PRODID:-//Plone.org//NONSGML plone.app.event//EN
X-WR-TIMEZONE:Europe/Madrid
BEGIN:VEVENT
SUMMARY:Visita d'obres i inspeccions via pública
DTSTART;TZID=Europe/Madrid;VALUE=DATE-TIME:20211008T120000
DTEND;TZID=Europe/Madrid;VALUE=DATE-TIME:20211008T130000
DTSTAMP;VALUE=DATE-TIME:20260422T060507Z
UID:2426a0b9ee95c2be957e53d20307553b
CREATED;VALUE=DATE-TIME:20211008T000000Z
CATEGORIES:Agenda institucional
LOCATION:A concretar
URL:https://alella.cat/document.php?id=15870
END:VEVENT
END:VCALENDAR