BEGIN:VCALENDAR
VERSION:2.0
PRODID:-//Plone.org//NONSGML plone.app.event//EN
X-WR-TIMEZONE:Europe/Madrid
BEGIN:VEVENT
SUMMARY:Fem neteja d'espais naturals d'Alella!
DTSTART;TZID=Europe/Madrid;VALUE=DATE-TIME:20211015T170000
DTEND;TZID=Europe/Madrid;VALUE=DATE-TIME:20211015T180000
DTSTAMP;VALUE=DATE-TIME:20260424T152042Z
UID:748552ddc9787c860e654c66d56ae64d
CREATED;VALUE=DATE-TIME:20211015T000000Z
CATEGORIES:Sortides,Jornades
LOCATION:Lloc de trobada: Al costat de l'Escola Fabra i de l'Escola La Serreta
ORGANIZER:Ajuntament d'Alella
COMMENT:Preu: Gratuït
URL:https://alella.cat/document.php?id=15794
END:VEVENT
END:VCALENDAR