BEGIN:VCALENDAR
VERSION:2.0
PRODID:-//Plone.org//NONSGML plone.app.event//EN
X-WR-TIMEZONE:Europe/Madrid
BEGIN:VEVENT
SUMMARY:Reunió de govern (de 10:00 a 11:00h)
DTSTART;TZID=Europe/Madrid;VALUE=DATE-TIME:20210722T100000
DTEND;TZID=Europe/Madrid;VALUE=DATE-TIME:20210722T110000
DTSTAMP;VALUE=DATE-TIME:20260423T034407Z
UID:ec8fd21cfda93e9163cde067bb6b1e47
CREATED;VALUE=DATE-TIME:20210722T000000Z
CATEGORIES:Agenda institucional
LOCATION:videoconferència
URL:https://alella.cat/document.php?id=15461
END:VEVENT
END:VCALENDAR