BEGIN:VCALENDAR
VERSION:2.0
PRODID:-//Plone.org//NONSGML plone.app.event//EN
X-WR-TIMEZONE:Europe/Madrid
BEGIN:VEVENT
SUMMARY:Festa Major. Pregó de Festa Major
DTSTART;TZID=Europe/Madrid;VALUE=DATE-TIME:20210729T190000
DTEND;TZID=Europe/Madrid;VALUE=DATE-TIME:20210729T200000
DTSTAMP;VALUE=DATE-TIME:20260422T131143Z
UID:824715f2285466a8d645e64f16871b03
CREATED;VALUE=DATE-TIME:20210729T000000Z
CATEGORIES:Festes i fires
LOCATION:Plaça de l'Ajuntament - Plaça de l'Ajuntament, s/n. 08328 Alella
ORGANIZER:Ajuntament d'Alella
COMMENT:Preu: Gratuït
URL:https://alella.cat/document.php?id=15315
END:VEVENT
END:VCALENDAR