BEGIN:VCALENDAR
VERSION:2.0
PRODID:-//Plone.org//NONSGML plone.app.event//EN
X-WR-TIMEZONE:Europe/Madrid
BEGIN:VEVENT
SUMMARY:Reunió coordinació Alcaldia
DTSTART;TZID=Europe/Madrid;VALUE=DATE-TIME:20210525T101500
DTEND;TZID=Europe/Madrid;VALUE=DATE-TIME:20210525T111500
DTSTAMP;VALUE=DATE-TIME:20260423T124753Z
UID:e1723291801d8186dcd1a301161b9564
CREATED;VALUE=DATE-TIME:20210525T000000Z
CATEGORIES:Agenda institucional
LOCATION:videoconferència
URL:https://alella.cat/document.php?id=15049
END:VEVENT
END:VCALENDAR