BEGIN:VCALENDAR
VERSION:2.0
PRODID:-//Plone.org//NONSGML plone.app.event//EN
X-WR-TIMEZONE:Europe/Madrid
BEGIN:VEVENT
SUMMARY:Reunió seguiment Serveis Municipals
DTSTART;TZID=Europe/Madrid;VALUE=DATE-TIME:20210521T120000
DTEND;TZID=Europe/Madrid;VALUE=DATE-TIME:20210521T130000
DTSTAMP;VALUE=DATE-TIME:20260426T020117Z
UID:7e5c00294f17c58945a84cb0c8e94e4a
CREATED;VALUE=DATE-TIME:20210521T000000Z
CATEGORIES:Agenda institucional
LOCATION:Sala Plens
URL:https://alella.cat/document.php?id=15032
END:VEVENT
END:VCALENDAR