BEGIN:VCALENDAR
VERSION:2.0
PRODID:-//Plone.org//NONSGML plone.app.event//EN
X-WR-TIMEZONE:Europe/Madrid
BEGIN:VEVENT
SUMMARY:Reunió de coordinació del Consorci per a la Promoció del Territori DO Alella
DTSTART;TZID=Europe/Madrid;VALUE=DATE-TIME:20210503T140000
DTEND;TZID=Europe/Madrid;VALUE=DATE-TIME:20210503T150000
DTSTAMP;VALUE=DATE-TIME:20260419T224638Z
UID:330b3df77371b2c60adfea21dc35ecf1
CREATED;VALUE=DATE-TIME:20210503T000000Z
CATEGORIES:Agenda institucional
LOCATION:videoconferència
URL:https://alella.cat/document.php?id=14902
END:VEVENT
END:VCALENDAR