BEGIN:VCALENDAR
VERSION:2.0
PRODID:-//Plone.org//NONSGML plone.app.event//EN
X-WR-TIMEZONE:Europe/Madrid
BEGIN:VEVENT
SUMMARY:Reunió de govern (de 11:00 a 12:00h)
DTSTART;TZID=Europe/Madrid;VALUE=DATE-TIME:20210503T110000
DTEND;TZID=Europe/Madrid;VALUE=DATE-TIME:20210503T120000
DTSTAMP;VALUE=DATE-TIME:20260424T204605Z
UID:8e1c95b81cab901844772c55867dbe0e
CREATED;VALUE=DATE-TIME:20210503T000000Z
CATEGORIES:Agenda institucional
LOCATION:Alcaldia
URL:https://alella.cat/document.php?id=14880
END:VEVENT
END:VCALENDAR