BEGIN:VCALENDAR
VERSION:2.0
PRODID:-//Plone.org//NONSGML plone.app.event//EN
X-WR-TIMEZONE:Europe/Madrid
BEGIN:VEVENT
SUMMARY:Reunió de govern (de 9 a 10:00h)
DTSTART;TZID=Europe/Madrid;VALUE=DATE-TIME:20210412T090000
DTEND;TZID=Europe/Madrid;VALUE=DATE-TIME:20210412T100000
DTSTAMP;VALUE=DATE-TIME:20260425T010053Z
UID:f42d7f1e49867373b16cf4f0aefd70f7
CREATED;VALUE=DATE-TIME:20210412T000000Z
CATEGORIES:Agenda institucional
LOCATION:Alcaldia
URL:https://alella.cat/document.php?id=14694
END:VEVENT
END:VCALENDAR