BEGIN:VCALENDAR
VERSION:2.0
PRODID:-//Plone.org//NONSGML plone.app.event//EN
X-WR-TIMEZONE:Europe/Madrid
BEGIN:VEVENT
SUMMARY:Junta de Govern
DTSTART;TZID=Europe/Madrid;VALUE=DATE-TIME:20210408T000000
DTEND;TZID=Europe/Madrid;VALUE=DATE-TIME:20210408T010000
DTSTAMP;VALUE=DATE-TIME:20260424T025055Z
UID:f4be6b11d4953e559639619b23593d32
CREATED;VALUE=DATE-TIME:20210408T000000Z
CATEGORIES:Agenda institucional
LOCATION:videoconferència
URL:https://alella.cat/document.php?id=14644
END:VEVENT
END:VCALENDAR