BEGIN:VCALENDAR
VERSION:2.0
PRODID:-//Plone.org//NONSGML plone.app.event//EN
X-WR-TIMEZONE:Europe/Madrid
BEGIN:VEVENT
SUMMARY:Jornada de Portes Obertes a la Llar d'Infants Municipal Els Pinyons
DTSTART;TZID=Europe/Madrid;VALUE=DATE-TIME:20210417T103000
DTEND;TZID=Europe/Madrid;VALUE=DATE-TIME:20210417T113000
DTSTAMP;VALUE=DATE-TIME:20260422T130938Z
UID:c45712bb39eb43c52985400051cc5fed
CREATED;VALUE=DATE-TIME:20210417T000000Z
CATEGORIES:Jornades
LOCATION:Llar d'Infants Municipal Els Pinyons - Avinguda del Bosquet, 5
ORGANIZER:Ajuntament d'Alella i Cavall de Cartró
COMMENT:Preu: Gratuït, amb cita prèvia
Durada: de 10.30 a 13h
DESCRIPTION:Cal demanar cita prèvia a larisa@cavallcartro.cat
URL:https://alella.cat/document.php?id=14545
END:VEVENT
END:VCALENDAR