BEGIN:VCALENDAR
VERSION:2.0
PRODID:-//Plone.org//NONSGML plone.app.event//EN
X-WR-TIMEZONE:Europe/Madrid
BEGIN:VEVENT
SUMMARY:Atenció a la ciutadania
DTSTART;TZID=Europe/Madrid;VALUE=DATE-TIME:20210309T110000
DTEND;TZID=Europe/Madrid;VALUE=DATE-TIME:20210309T120000
DTSTAMP;VALUE=DATE-TIME:20260424T094238Z
UID:ad3ace638065f07ece5c1296f5a0dde4
CREATED;VALUE=DATE-TIME:20210309T000000Z
CATEGORIES:Agenda institucional
LOCATION:Sala Plens
URL:https://alella.cat/document.php?id=14433
END:VEVENT
END:VCALENDAR