BEGIN:VCALENDAR
VERSION:2.0
PRODID:-//Plone.org//NONSGML plone.app.event//EN
X-WR-TIMEZONE:Europe/Madrid
BEGIN:VEVENT
SUMMARY:Cinema. Nuevo orden
DTSTART;TZID=Europe/Madrid;VALUE=DATE-TIME:20210314T191500
DTEND;TZID=Europe/Madrid;VALUE=DATE-TIME:20210314T201500
DTSTAMP;VALUE=DATE-TIME:20260424T110146Z
UID:37ca9c401389ef3d81ea285cb84ad572
CREATED;VALUE=DATE-TIME:20210314T000000Z
CATEGORIES:Cinema
LOCATION:Espai d'arts escèniques Casal d'Alella - Carrer de Santa Teresa, 9 08328 Alella
ORGANIZER:Ajuntament d'Alella
COMMENT:Preu: 4,50 dia de preu reduït
Durada: 88 min.
DESCRIPTION:Michel Franco
URL:https://alella.cat/document.php?id=14411
END:VEVENT
END:VCALENDAR