BEGIN:VCALENDAR
VERSION:2.0
PRODID:-//Plone.org//NONSGML plone.app.event//EN
X-WR-TIMEZONE:Europe/Madrid
BEGIN:VEVENT
SUMMARY:Taller de cuina. La cucina di mia madre
DTSTART;TZID=Europe/Madrid;VALUE=DATE-TIME:20210217T173000
DTEND;TZID=Europe/Madrid;VALUE=DATE-TIME:20210217T183000
DTSTAMP;VALUE=DATE-TIME:20260421T164151Z
UID:091b040d75ea164fbef934894c836861
CREATED;VALUE=DATE-TIME:20210217T000000Z
CATEGORIES:Cursos
LOCATION:Canal Youtube de l'Ajuntament
ORGANIZER:Ajuntament d'Alella
COMMENT:Preu: GRATUÏT
Durada: De 17.30 a 19h
DESCRIPTION:Retransmès online pel canal Youtube de l'Ajuntament
URL:https://alella.cat/document.php?id=14182
END:VEVENT
END:VCALENDAR