BEGIN:VCALENDAR
VERSION:2.0
PRODID:-//Plone.org//NONSGML plone.app.event//EN
X-WR-TIMEZONE:Europe/Madrid
BEGIN:VEVENT
SUMMARY:Cinema. Martin Eden
DTSTART;TZID=Europe/Madrid;VALUE=DATE-TIME:20210212T193000
DTEND;TZID=Europe/Madrid;VALUE=DATE-TIME:20210212T203000
DTSTAMP;VALUE=DATE-TIME:20260422T043417Z
UID:a232679e148f0bffa6c8d1b72a845096
CREATED;VALUE=DATE-TIME:20210212T000000Z
CATEGORIES:Cinema
LOCATION:Espai d'arts escèniques Casal d'Alella - Carrer de Santa Teresa, 9 08328 Alella
ORGANIZER:Ajuntament d'Alella
COMMENT:Preu: 6,50
Durada: 129 min.
DESCRIPTION:Pietro Marcello
URL:https://alella.cat/document.php?id=14153
END:VEVENT
END:VCALENDAR