BEGIN:VCALENDAR
VERSION:2.0
PRODID:-//Plone.org//NONSGML plone.app.event//EN
X-WR-TIMEZONE:Europe/Madrid
BEGIN:VEVENT
SUMMARY:Carpa informativa del projecte Moment Solar
DTSTART;TZID=Europe/Madrid;VALUE=DATE-TIME:20210129T100000
DTEND;TZID=Europe/Madrid;VALUE=DATE-TIME:20210129T110000
DTSTAMP;VALUE=DATE-TIME:20260422T193958Z
UID:cb48b8f4161dcb12f4093338e4a92451
CREATED;VALUE=DATE-TIME:20210129T000000Z
LOCATION:Plaça de l'Ajuntament
ORGANIZER:FEGICAT en col·laboració de l'Ajuntament d'Alella
COMMENT:Preu: Gratuït
Durada: 4 hores (de 10 a 14h)
URL:https://alella.cat/document.php?id=14069
END:VEVENT
END:VCALENDAR