BEGIN:VCALENDAR
VERSION:2.0
PRODID:-//Plone.org//NONSGML plone.app.event//EN
X-WR-TIMEZONE:Europe/Madrid
BEGIN:VEVENT
SUMMARY:Cinema. Manual de la buena esposa
DTSTART;TZID=Europe/Madrid;VALUE=DATE-TIME:20210201T174500
DTEND;TZID=Europe/Madrid;VALUE=DATE-TIME:20210201T184500
DTSTAMP;VALUE=DATE-TIME:20260423T234948Z
UID:e0095166a1b0bfd72329d5dcdb1b2d12
CREATED;VALUE=DATE-TIME:20210201T000000Z
CATEGORIES:Cinema
LOCATION:Espai d'arts escèniques Casal d'Alella - Carrer de Santa Teresa, 9 08328 Alella
ORGANIZER:Ajuntament d'Alella
COMMENT:Preu: 4,50 dia de preu reduït
Durada: 111 min.
DESCRIPTION:Martin Provost
URL:https://alella.cat/document.php?id=14060
END:VEVENT
END:VCALENDAR