BEGIN:VCALENDAR
VERSION:2.0
PRODID:-//Plone.org//NONSGML plone.app.event//EN
X-WR-TIMEZONE:Europe/Madrid
BEGIN:VEVENT
SUMMARY:Cinema. Manual de la buena esposa
DTSTART;TZID=Europe/Madrid;VALUE=DATE-TIME:20210129T174500
DTEND;TZID=Europe/Madrid;VALUE=DATE-TIME:20210129T184500
DTSTAMP;VALUE=DATE-TIME:20260421T125405Z
UID:4e3a8fd57b835e3e4a8a41b2b11872dd
CREATED;VALUE=DATE-TIME:20210129T000000Z
CATEGORIES:Cinema
LOCATION:Espai d'arts escèniques Casal d'Alella - Carrer de Santa Teresa, 9 08328 Alella
ORGANIZER:Ajuntament d'Alella
COMMENT:Preu: 6,50 (4,50 dia de preu reduït)
Durada: 111 min.
DESCRIPTION:Martin Provost
URL:https://alella.cat/document.php?id=14056
END:VEVENT
END:VCALENDAR