BEGIN:VCALENDAR
VERSION:2.0
PRODID:-//Plone.org//NONSGML plone.app.event//EN
X-WR-TIMEZONE:Europe/Madrid
BEGIN:VEVENT
SUMMARY:Dia Dones. Dansa. Spiritual Boyfriends
DTSTART;TZID=Europe/Madrid;VALUE=DATE-TIME:20210227T200000
DTEND;TZID=Europe/Madrid;VALUE=DATE-TIME:20210227T210000
DTSTAMP;VALUE=DATE-TIME:20260421T105505Z
UID:e7b47541b295cbad5046f5f94b5d7ff3
CREATED;VALUE=DATE-TIME:20210227T000000Z
CATEGORIES:Espectacles
LOCATION:Espai d'arts escèniques Casal d'Alella - Carrer de Santa Teresa, 9 08328 Alella
ORGANIZER:Ajuntament d'Alella
COMMENT:Preu: entre 9 i 12
Durada: 60 minuts
DESCRIPTION:Amb Núria Guiu
URL:https://alella.cat/document.php?id=14021
END:VEVENT
END:VCALENDAR