BEGIN:VCALENDAR
VERSION:2.0
PRODID:-//Plone.org//NONSGML plone.app.event//EN
X-WR-TIMEZONE:Europe/Madrid
BEGIN:VEVENT
SUMMARY:Mesa contractació serveis
DTSTART;TZID=Europe/Madrid;VALUE=DATE-TIME:20201221T120000
DTEND;TZID=Europe/Madrid;VALUE=DATE-TIME:20201221T130000
DTSTAMP;VALUE=DATE-TIME:20260422T193910Z
UID:b8b675d3b70afa39437f333b8ce6b222
CREATED;VALUE=DATE-TIME:20201221T000000Z
CATEGORIES:Agenda institucional
LOCATION:videoconferència
URL:https://alella.cat/document.php?id=13847
END:VEVENT
END:VCALENDAR