BEGIN:VCALENDAR
VERSION:2.0
PRODID:-//Plone.org//NONSGML plone.app.event//EN
X-WR-TIMEZONE:Europe/Madrid
BEGIN:VEVENT
SUMMARY:Sortida. Ruta ibèrica i romana pel Baix Empordà. AJORNADA
DTSTART;TZID=Europe/Madrid;VALUE=DATE-TIME:20210310T073000
DTEND;TZID=Europe/Madrid;VALUE=DATE-TIME:20210310T083000
DTSTAMP;VALUE=DATE-TIME:20260424T152009Z
UID:b8e6c126c53ef42e78716f5415f67320
CREATED;VALUE=DATE-TIME:20210310T000000Z
CATEGORIES:Sortides
LOCATION:Parada de bus de Can Lleonart
ORGANIZER:Ajuntament d'Alella
COMMENT:Preu: 23 euros
Durada: Tot el dia
URL:https://alella.cat/document.php?id=13843
END:VEVENT
END:VCALENDAR