BEGIN:VCALENDAR
VERSION:2.0
PRODID:-//Plone.org//NONSGML plone.app.event//EN
X-WR-TIMEZONE:Europe/Madrid
BEGIN:VEVENT
SUMMARY:Assemblea General - Consorci Consorci LOCALRET
DTSTART;TZID=Europe/Madrid;VALUE=DATE-TIME:20201215T160000
DTEND;TZID=Europe/Madrid;VALUE=DATE-TIME:20201215T170000
DTSTAMP;VALUE=DATE-TIME:20260422T060409Z
UID:d4f38de2b855b599881a945ba4abd4be
CREATED;VALUE=DATE-TIME:20201215T000000Z
CATEGORIES:Agenda institucional
LOCATION:videoconferència
URL:https://alella.cat/document.php?id=13764
END:VEVENT
END:VCALENDAR