BEGIN:VCALENDAR
VERSION:2.0
PRODID:-//Plone.org//NONSGML plone.app.event//EN
X-WR-TIMEZONE:Europe/Madrid
BEGIN:VEVENT
SUMMARY:VI Jornades d'Ocupació - Presentació
DTSTART;TZID=Europe/Madrid;VALUE=DATE-TIME:20201214T091500
DTEND;TZID=Europe/Madrid;VALUE=DATE-TIME:20201214T101500
DTSTAMP;VALUE=DATE-TIME:20260424T025110Z
UID:51c21b8194357dc13feb570fc02a59fa
CREATED;VALUE=DATE-TIME:20201214T000000Z
CATEGORIES:Agenda institucional
LOCATION:videoconferència
URL:https://alella.cat/document.php?id=13758
END:VEVENT
END:VCALENDAR