BEGIN:VCALENDAR
VERSION:2.0
PRODID:-//Plone.org//NONSGML plone.app.event//EN
X-WR-TIMEZONE:Europe/Madrid
BEGIN:VEVENT
SUMMARY:Contes d'aixafar raïm
DTSTART;TZID=Europe/Madrid;VALUE=DATE-TIME:20201031T120000
DTEND;TZID=Europe/Madrid;VALUE=DATE-TIME:20201031T130000
DTSTAMP;VALUE=DATE-TIME:20260424T192207Z
UID:0abbc8850efde131b896316d81529f3a
CREATED;VALUE=DATE-TIME:20201031T000000Z
CATEGORIES:Familiars
LOCATION:Centre Cultural de Can Lleonart - Plaça dels Germans Lleonart, 1 08328 Alella
ORGANIZER:Ajuntament d'Alella
COMMENT:Preu: Gratuït
Durada: 1 hora
DESCRIPTION:ACTIVITAT ANUL·LADA
URL:https://alella.cat/document.php?id=13523
END:VEVENT
END:VCALENDAR