BEGIN:VCALENDAR
VERSION:2.0
PRODID:-//Plone.org//NONSGML plone.app.event//EN
X-WR-TIMEZONE:Europe/Madrid
BEGIN:VEVENT
SUMMARY:Vi +
DTSTART;TZID=Europe/Madrid;VALUE=DATE-TIME:20201025T000000
DTEND;TZID=Europe/Madrid;VALUE=DATE-TIME:20201025T010000
DTSTAMP;VALUE=DATE-TIME:20260420T003648Z
UID:1f17dc9119df59f3fdf9803c6c3c6e0a
CREATED;VALUE=DATE-TIME:20201025T000000Z
CATEGORIES:Vi i gastronomia
LOCATION:Diferents espais
ORGANIZER:Consorci per la Promoció Enoturística del Territori DO Alella
DESCRIPTION:El programa s'ha vist afectat per les noves mesures sanitària acordades per la Generalitat
URL:https://alella.cat/document.php?id=13508
END:VEVENT
END:VCALENDAR