BEGIN:VCALENDAR
VERSION:2.0
PRODID:-//Plone.org//NONSGML plone.app.event//EN
X-WR-TIMEZONE:Europe/Madrid
BEGIN:VEVENT
SUMMARY:Cinema. Un diván en Túnez
DTSTART;TZID=Europe/Madrid;VALUE=DATE-TIME:20201016T200000
DTEND;TZID=Europe/Madrid;VALUE=DATE-TIME:20201016T210000
DTSTAMP;VALUE=DATE-TIME:20260420T152011Z
UID:ebedec131c17d705ecc7b039f096ef83
CREATED;VALUE=DATE-TIME:20201016T000000Z
CATEGORIES:Cinema
LOCATION:Espai d'arts escèniques Casal d'Alella - Carrer de Santa Teresa, 9 08328 Alella
COMMENT:Preu: 6,50 euros
Durada: 90 minuts
DESCRIPTION:Versió original subtitulada
URL:https://alella.cat/document.php?id=13484
END:VEVENT
END:VCALENDAR