BEGIN:VCALENDAR
VERSION:2.0
PRODID:-//Plone.org//NONSGML plone.app.event//EN
X-WR-TIMEZONE:Europe/Madrid
BEGIN:VEVENT
SUMMARY:Reunió coordinació amb Territori
DTSTART;TZID=Europe/Madrid;VALUE=DATE-TIME:20201007T093000
DTEND;TZID=Europe/Madrid;VALUE=DATE-TIME:20201007T103000
DTSTAMP;VALUE=DATE-TIME:20260420T134700Z
UID:8d65a854957c6d1b8d378622f3e2522c
CREATED;VALUE=DATE-TIME:20201007T000000Z
CATEGORIES:Agenda institucional
LOCATION:Sala reunions
URL:https://alella.cat/document.php?id=13461
END:VEVENT
END:VCALENDAR