BEGIN:VCALENDAR
VERSION:2.0
PRODID:-//Plone.org//NONSGML plone.app.event//EN
X-WR-TIMEZONE:Europe/Madrid
BEGIN:VEVENT
SUMMARY:Eso que tú me das
DTSTART;TZID=Europe/Madrid;VALUE=DATE-TIME:20201012T173000
DTEND;TZID=Europe/Madrid;VALUE=DATE-TIME:20201012T183000
DTSTAMP;VALUE=DATE-TIME:20260425T170932Z
UID:1590160559a183c0b7b9bf7ca894e14c
CREATED;VALUE=DATE-TIME:20201012T000000Z
CATEGORIES:Cinema
LOCATION:Espai d'arts escèniques Casal d'Alella - Carrer de Santa Teresa, 9 08328 Alella
COMMENT:Preu: 6,50&euro;
Durada: 65 min.
DESCRIPTION:Última xerrada amb Pau Donés
URL:https://alella.cat/document.php?id=13448
END:VEVENT
END:VCALENDAR