BEGIN:VCALENDAR
VERSION:2.0
PRODID:-//Plone.org//NONSGML plone.app.event//EN
X-WR-TIMEZONE:Europe/Madrid
BEGIN:VEVENT
SUMMARY:Projecció de La sang de la terra
DTSTART;TZID=Europe/Madrid;VALUE=DATE-TIME:20201013T190000
DTEND;TZID=Europe/Madrid;VALUE=DATE-TIME:20201013T200000
DTSTAMP;VALUE=DATE-TIME:20260421T164220Z
UID:6a44f16e167ef8b29ea53f7ba21ab2cf
CREATED;VALUE=DATE-TIME:20201013T000000Z
CATEGORIES:Cinema,Jornades
LOCATION:Espai d'arts escèniques Casal d'Alella - Carrer de Santa Teresa, 9 08328 Alella
ORGANIZER:Comissió de Cooperació Internacional
COMMENT:Preu: Gratuït
DESCRIPTION:JORNADES DE COOPERACIÓ INTERNACIONAL MIRADES AL MÓN El perill de ser activista mediambiental
URL:https://alella.cat/document.php?id=13422
END:VEVENT
END:VCALENDAR