BEGIN:VCALENDAR
VERSION:2.0
PRODID:-//Plone.org//NONSGML plone.app.event//EN
X-WR-TIMEZONE:Europe/Madrid
BEGIN:VEVENT
SUMMARY:Pinocho
DTSTART;TZID=Europe/Madrid;VALUE=DATE-TIME:20201005T180000
DTEND;TZID=Europe/Madrid;VALUE=DATE-TIME:20201005T190000
DTSTAMP;VALUE=DATE-TIME:20260423T172231Z
UID:95de5d782f2c525e01bcf5cf54b808d6
CREATED;VALUE=DATE-TIME:20201005T000000Z
CATEGORIES:Cinema
LOCATION:Espai d'arts escèniques Casal d'Alella - Carrer de Santa Teresa, 9 08328 Alella
COMMENT:Preu: 4,50&euro;
Durada: 125 min.
DESCRIPTION:Dia de preu reduït
URL:https://alella.cat/document.php?id=13410
END:VEVENT
END:VCALENDAR