BEGIN:VCALENDAR
VERSION:2.0
PRODID:-//Plone.org//NONSGML plone.app.event//EN
X-WR-TIMEZONE:Europe/Madrid
BEGIN:VEVENT
SUMMARY:Pinocho
DTSTART;TZID=Europe/Madrid;VALUE=DATE-TIME:20201003T170000
DTEND;TZID=Europe/Madrid;VALUE=DATE-TIME:20201003T180000
DTSTAMP;VALUE=DATE-TIME:20260424T094359Z
UID:dc8f4f82d451186a45ce40ea8a14a673
CREATED;VALUE=DATE-TIME:20201003T000000Z
CATEGORIES:Cinema
LOCATION:Espai d'arts escèniques Casal d'Alella - Carrer de Santa Teresa, 9 08328 Alella
COMMENT:Preu: 6,50&euro;
Durada: 125 min.
DESCRIPTION:Matteo Garrone
URL:https://alella.cat/document.php?id=13406
END:VEVENT
END:VCALENDAR