BEGIN:VCALENDAR
VERSION:2.0
PRODID:-//Plone.org//NONSGML plone.app.event//EN
X-WR-TIMEZONE:Europe/Madrid
BEGIN:VEVENT
SUMMARY:La profesora de piano
DTSTART;TZID=Europe/Madrid;VALUE=DATE-TIME:20200928T180000
DTEND;TZID=Europe/Madrid;VALUE=DATE-TIME:20200928T190000
DTSTAMP;VALUE=DATE-TIME:20260425T235057Z
UID:1e77b213dc11c5b22cbcbb13546231d7
CREATED;VALUE=DATE-TIME:20200928T000000Z
CATEGORIES:Cinema
LOCATION:Espai d'arts escèniques Casal d'Alella - Carrer de Santa Teresa, 9 08328 Alella
COMMENT:Preu: 4,50&euro;
Durada: 98 min.
DESCRIPTION:Dia de preu reduït
URL:https://alella.cat/document.php?id=13404
END:VEVENT
END:VCALENDAR