BEGIN:VCALENDAR
VERSION:2.0
PRODID:-//Plone.org//NONSGML plone.app.event//EN
X-WR-TIMEZONE:Europe/Madrid
BEGIN:VEVENT
SUMMARY:'Astre blau' &bull; Versopsicodèlia
DTSTART;TZID=Europe/Madrid;VALUE=DATE-TIME:20201031T200000
DTEND;TZID=Europe/Madrid;VALUE=DATE-TIME:20201031T210000
DTSTAMP;VALUE=DATE-TIME:20260421T145636Z
UID:0be5d7e6a708a1d7ccd5ee85570ee2cd
CREATED;VALUE=DATE-TIME:20201031T000000Z
CATEGORIES:Música,Literatura
LOCATION:Espai d'arts escèniques Casal d'Alella - Carrer de Santa Teresa, 9 08328 Alella
ORGANIZER:Ajuntament d'Alella
COMMENT:Preu: Gratuït
DESCRIPTION:ACTIVITAT AJORNADA FINS AL 5 DE DESEMBRE
URL:https://alella.cat/document.php?id=13357
END:VEVENT
END:VCALENDAR