BEGIN:VCALENDAR
VERSION:2.0
PRODID:-//Plone.org//NONSGML plone.app.event//EN
X-WR-TIMEZONE:Europe/Madrid
BEGIN:VEVENT
SUMMARY:Teatre. Puertas abiertas
DTSTART;TZID=Europe/Madrid;VALUE=DATE-TIME:20201018T190000
DTEND;TZID=Europe/Madrid;VALUE=DATE-TIME:20201018T200000
DTSTAMP;VALUE=DATE-TIME:20260423T155554Z
UID:0d70535db4c91e886a450bd0b0bb1f08
CREATED;VALUE=DATE-TIME:20201018T000000Z
CATEGORIES:Espectacles
LOCATION:Espai d'arts escèniques Casal d'Alella - Carrer de Santa Teresa, 9 08328 Alella
COMMENT:Preu: Entre 23 i 18 
Durada: 70 min
URL:https://alella.cat/document.php?id=13344
END:VEVENT
END:VCALENDAR