BEGIN:VCALENDAR
VERSION:2.0
PRODID:-//Plone.org//NONSGML plone.app.event//EN
X-WR-TIMEZONE:Europe/Madrid
BEGIN:VEVENT
SUMMARY:Pelat, de Joan Català
DTSTART;TZID=Europe/Madrid;VALUE=DATE-TIME:20201018T120000
DTEND;TZID=Europe/Madrid;VALUE=DATE-TIME:20201018T130000
DTSTAMP;VALUE=DATE-TIME:20260421T125958Z
UID:745b8c0d73906eb31d8a16f69fb0e13c
CREATED;VALUE=DATE-TIME:20201018T000000Z
CATEGORIES:Espectacles
LOCATION:Plaça de l'Ajuntament - Plaça de l'Ajuntament, s/n. 08328 Alella
COMMENT:Preu: gratuït
URL:https://alella.cat/document.php?id=13342
END:VEVENT
END:VCALENDAR