BEGIN:VCALENDAR
VERSION:2.0
PRODID:-//Plone.org//NONSGML plone.app.event//EN
X-WR-TIMEZONE:Europe/Madrid
BEGIN:VEVENT
SUMMARY:Reunió coordinació: UFEC
DTSTART;TZID=Europe/Madrid;VALUE=DATE-TIME:20200831T090000
DTEND;TZID=Europe/Madrid;VALUE=DATE-TIME:20200831T100000
DTSTAMP;VALUE=DATE-TIME:20260421T125510Z
UID:38fa162c6750a884287188844cf54544
CREATED;VALUE=DATE-TIME:20200831T000000Z
CATEGORIES:Agenda institucional
LOCATION:A concretar
URL:https://alella.cat/document.php?id=13226
END:VEVENT
END:VCALENDAR