BEGIN:VCALENDAR
VERSION:2.0
PRODID:-//Plone.org//NONSGML plone.app.event//EN
X-WR-TIMEZONE:Europe/Madrid
BEGIN:VEVENT
SUMMARY:Vesprada de dansa i música
DTSTART;TZID=Europe/Madrid;VALUE=DATE-TIME:20200726T190000
DTEND;TZID=Europe/Madrid;VALUE=DATE-TIME:20200726T200000
DTSTAMP;VALUE=DATE-TIME:20260423T052141Z
UID:72d4906d1ce6e362078e5d7361b04179
CREATED;VALUE=DATE-TIME:20200726T000000Z
CATEGORIES:Espectacles,Música,Joves
LOCATION:Can Gaza - Avda Sant Josep de Calassanç 23-25. 08328 Alella
COMMENT:Preu: Gratuït
DESCRIPTION:Fil·loxera 2020
URL:https://alella.cat/document.php?id=13146
END:VEVENT
END:VCALENDAR