BEGIN:VCALENDAR
VERSION:2.0
PRODID:-//Plone.org//NONSGML plone.app.event//EN
X-WR-TIMEZONE:Europe/Madrid
BEGIN:VEVENT
SUMMARY:Concurs de decoració de balcons
DTSTART;TZID=Europe/Madrid;VALUE=DATE-TIME:20200801T000000
DTEND;TZID=Europe/Madrid;VALUE=DATE-TIME:20200801T010000
DTSTAMP;VALUE=DATE-TIME:20260424T082547Z
UID:5189e6a7d259fee4edc6fde22de051db
CREATED;VALUE=DATE-TIME:20200727T000000Z
CATEGORIES:Exposició,Festes i fires,Familiars
LOCATION:Format digital
URL:https://alella.cat/document.php?id=13120
END:VEVENT
END:VCALENDAR