BEGIN:VCALENDAR
VERSION:2.0
PRODID:-//Plone.org//NONSGML plone.app.event//EN
X-WR-TIMEZONE:Europe/Madrid
BEGIN:VEVENT
SUMMARY:Reunió coordinació Festa Major i Fil·loxera
DTSTART;TZID=Europe/Madrid;VALUE=DATE-TIME:20200626T093000
DTEND;TZID=Europe/Madrid;VALUE=DATE-TIME:20200626T103000
DTSTAMP;VALUE=DATE-TIME:20260422T131128Z
UID:8bdc4ca4984b0c0f4b368acecbb534d8
CREATED;VALUE=DATE-TIME:20200626T000000Z
CATEGORIES:Agenda institucional
LOCATION:videoconferència
URL:https://alella.cat/document.php?id=13046
END:VEVENT
END:VCALENDAR