BEGIN:VCALENDAR
VERSION:2.0
PRODID:-//Plone.org//NONSGML plone.app.event//EN
X-WR-TIMEZONE:Europe/Madrid
BEGIN:VEVENT
SUMMARY:Junta de Govern
DTSTART;TZID=Europe/Madrid;VALUE=DATE-TIME:20200618T191000
DTEND;TZID=Europe/Madrid;VALUE=DATE-TIME:20200618T201000
DTSTAMP;VALUE=DATE-TIME:20260424T151341Z
UID:edddade5c9b20000cd9ce11eb71ef2e9
CREATED;VALUE=DATE-TIME:20200618T000000Z
CATEGORIES:Agenda institucional
LOCATION:videoconferència
URL:https://alella.cat/document.php?id=12980
END:VEVENT
END:VCALENDAR